BEGIN:VCALENDAR
VERSION:2.0
PRODID:-//Tukios.com/
BEGIN:VEVENT
UID:a8e6cfbc-c7e0-47a6-aa46-2524fc624aee@www.bordwinefuneralhome.com
DTSTAMP:20260420T184409Z
DTSTART:20260429T230000Z
DTEND:20260430T000000Z
SUMMARY:Memorial Service
DESCRIPTION:
URL:https://www.bordwinefuneralhome.com/obituaries/robert-cooley
LOCATION: 203 Ohio Ave  Etowah TN 37331
GEO:35.3304323;-84.5225896
END:VEVENT
END:VCALENDAR