BEGIN:VCALENDAR
VERSION:2.0
PRODID:-//Tukios.com/
BEGIN:VEVENT
UID:3af3a763-8f18-44d6-8dba-bfa07701790e@www.bordwinefuneralhome.com
DTSTAMP:20260420T184403Z
DTSTART:20260429T210000Z
DTEND:20260429T230000Z
SUMMARY:Visitation
DESCRIPTION:
URL:https://www.bordwinefuneralhome.com/obituaries/robert-cooley
LOCATION: 203 Ohio Ave  Etowah TN 37331
GEO:35.3304323;-84.5225896
END:VEVENT
END:VCALENDAR